BEGIN:VCALENDAR
VERSION:2.0
PRODID:icalendar-ruby
CALSCALE:GREGORIAN
METHOD:PUBLISH
BEGIN:VEVENT
DTSTAMP:20260422T192039Z
UID:5-417887@houseofgodchurchpawleys.com
DTSTART:20260913T170000Z
DTEND:20260913T180000Z
CLASS:PUBLIC
CREATED:20260422T114031
DESCRIPTION:Sunday Worship
LAST-MODIFIED:20260422T114031
LOCATION:
SUMMARY:Sunday Worship
URL;VALUE=URI:https://www.houseofgodchurchpawleys.com/events/sunday-worship
 /2026-09-13
END:VEVENT
END:VCALENDAR
