BEGIN:VCALENDAR
VERSION:2.0
PRODID:icalendar-ruby
CALSCALE:GREGORIAN
METHOD:PUBLISH
BEGIN:VEVENT
DTSTAMP:20260422T204307Z
UID:5-417888@houseofgodchurchpawleys.com
DTSTART:20260920T170000Z
DTEND:20260920T180000Z
CLASS:PUBLIC
CREATED:20260422T114031
DESCRIPTION:Sunday Worship
LAST-MODIFIED:20260422T114031
LOCATION:
SUMMARY:Sunday Worship
URL;VALUE=URI:https://www.houseofgodchurchpawleys.com/events/sunday-worship
 /2026-09-20
END:VEVENT
END:VCALENDAR
